Workbook
Name Bconf: 'Breeding Evidence'!$A$2:$A$20
Name HOSsp: 'Species list'!$A$2:$A$562

Sheet My Details
A2: Recording Year | C2: must be completed
A4: My Last Name | C4: must be completed
A6: My First Name | C6: must be completed
A8: Additional names (if any) | B8: Second | C8: Third | D8: Fourth
A9: Initial/Name in Each Box
A11: E-mail address (if preferred means of contact)
A13: Telephone Number (please specify if preferred means of contact, otherwise optional)
A16: Post Code (optional for data analysis)
A19: Completed Forms to | B19: mjpitt35clere@hotmail.com

Sheet Record Form
A1: SPECIES | B1: LOCATION | C1: GRID REFERENCE | D1: 1. Enter day of month. 2. Use drop down menu to select month | G1: COUNT | H1: MOVEMENT (note 6) | J1: Breeding Evidence | K1: Additional description prompt for unusual or rare species | L1: NOTES | M1: Your formatted Name HOS Records | N1: 1
A2: see note 1 | B2: see note 2 | C2: see note 4 | D2: Day of Month | E2: Month | F2: Auto Date | G2: see note 5 | H2: Direction | I2: Number | J2: see note 7 | L2: see note 8 | N2: 2
F3: {=IF(LEN('My Details'!$B$2)=0,"see Note 3",IF(LEN(D3)=0,"",IF(LEN(E3)=0,"",(INDEX(Month!$A$2:$Z$15,MATCH(E3,Month!$A$2:$A$15,0),'My Details'!$B$2-2005)+D3))))} -> see Note 3 | K3: =IF($A3="","",IF(OR(VLOOKUP($A3,'Species list'!$A$2:$E$456,3,0)="BBRC",VLOOKUP($A3,'Species list'!$A$2:$E$456,3,0)="HOSRP"),"URF required",IF(VLOOKUP($A3,'Species list'!$A$2:$E$456,4,0)="A, description notes required","Inc. ID notes",""))) | M3: =IF(LEN('My Details'!B4)=0,"see Note 9",TRIM('My Details'!B4&", "&LEFT('My Details'!B6)&LEFT('My Details'!B9)&LEFT('My Details'!C9)&LEFT('My Details'!D9))) -> see Note 9 | N3: 3
F4: {=IF(LEN('My Details'!$B$2)=0,"see Note 3",IF(LEN(D4)=0,"",IF(LEN(E4)=0,"",(INDEX(Month!$A$2:$Z$15,MATCH(E4,Month!$A$2:$A$15,0),'My Details'!$B$2-2005)+D4))))} -> see Note 3 | K4: =IF($A4="","",IF(OR(VLOOKUP($A4,'Species list'!$A$2:$E$456,3,0)="BBRC",VLOOKUP($A4,'Species list'!$A$2:$E$456,3,0)="HOSRP"),"URF required",IF(VLOOKUP($A4,'Species list'!$A$2:$E$456,4,0)="A, description notes required","Inc. ID notes",""))) | M4: =IF(LEN(A4)=0,"",$M$3) | N4: 3
F5: {=IF(LEN('My Details'!$B$2)=0,"see Note 3",IF(LEN(D5)=0,"",IF(LEN(E5)=0,"",(INDEX(Month!$A$2:$Z$15,MATCH(E5,Month!$A$2:$A$15,0),'My Details'!$B$2-2005)+D5))))} -> see Note 3 | K5: =IF($A5="","",IF(OR(VLOOKUP($A5,'Species list'!$A$2:$E$456,3,0)="BBRC",VLOOKUP($A5,'Species list'!$A$2:$E$456,3,0)="HOSRP"),"URF required",IF(VLOOKUP($A5,'Species list'!$A$2:$E$456,4,0)="A, description notes required","Inc. ID notes",""))) | M5: =IF(LEN(A5)=0,"",$M$3) | N5: 5
F6: {=IF(LEN('My Details'!$B$2)=0,"see Note 3",IF(LEN(D6)=0,"",IF(LEN(E6)=0,"",(INDEX(Month!$A$2:$Z$15,MATCH(E6,Month!$A$2:$A$15,0),'My Details'!$B$2-2005)+D6))))} -> see Note 3 | K6: =IF($A6="","",IF(OR(VLOOKUP($A6,'Species list'!$A$2:$E$456,3,0)="BBRC",VLOOKUP($A6,'Species list'!$A$2:$E$456,3,0)="HOSRP"),"URF required",IF(VLOOKUP($A6,'Species list'!$A$2:$E$456,4,0)="A, description notes required","Inc. ID notes",""))) | M6: =IF(LEN(A6)=0,"",$M$3) | N6: 6
F7: {=IF(LEN('My Details'!$B$2)=0,"see Note 3",IF(LEN(D7)=0,"",IF(LEN(E7)=0,"",(INDEX(Month!$A$2:$Z$15,MATCH(E7,Month!$A$2:$A$15,0),'My Details'!$B$2-2005)+D7))))} -> see Note 3 | K7: =IF($A7="","",IF(OR(VLOOKUP($A7,'Species list'!$A$2:$E$456,3,0)="BBRC",VLOOKUP($A7,'Species list'!$A$2:$E$456,3,0)="HOSRP"),"URF required",IF(VLOOKUP($A7,'Species list'!$A$2:$E$456,4,0)="A, description notes required","Inc. ID notes",""))) | M7: =IF(LEN(A7)=0,"",$M$3) | N7: 7
F8: {=IF(LEN('My Details'!$B$2)=0,"see Note 3",IF(LEN(D8)=0,"",IF(LEN(E8)=0,"",(INDEX(Month!$A$2:$Z$15,MATCH(E8,Month!$A$2:$A$15,0),'My Details'!$B$2-2005)+D8))))} -> see Note 3 | K8: =IF($A8="","",IF(OR(VLOOKUP($A8,'Species list'!$A$2:$E$456,3,0)="BBRC",VLOOKUP($A8,'Species list'!$A$2:$E$456,3,0)="HOSRP"),"URF required",IF(VLOOKUP($A8,'Species list'!$A$2:$E$456,4,0)="A, description notes required","Inc. ID notes",""))) | M8: =IF(LEN(A8)=0,"",$M$3) | N8: 8
F9: {=IF(LEN('My Details'!$B$2)=0,"see Note 3",IF(LEN(D9)=0,"",IF(LEN(E9)=0,"",(INDEX(Month!$A$2:$Z$15,MATCH(E9,Month!$A$2:$A$15,0),'My Details'!$B$2-2005)+D9))))} -> see Note 3 | K9: =IF($A9="","",IF(OR(VLOOKUP($A9,'Species list'!$A$2:$E$456,3,0)="BBRC",VLOOKUP($A9,'Species list'!$A$2:$E$456,3,0)="HOSRP"),"URF required",IF(VLOOKUP($A9,'Species list'!$A$2:$E$456,4,0)="A, description notes required","Inc. ID notes",""))) | M9: =IF(LEN(A9)=0,"",$M$3) | N9: 9
F10: {=IF(LEN('My Details'!$B$2)=0,"see Note 3",IF(LEN(D10)=0,"",IF(LEN(E10)=0,"",(INDEX(Month!$A$2:$Z$15,MATCH(E10,Month!$A$2:$A$15,0),'My Details'!$B$2-2005)+D10))))} -> see Note 3 | K10: =IF($A10="","",IF(OR(VLOOKUP($A10,'Species list'!$A$2:$E$456,3,0)="BBRC",VLOOKUP($A10,'Species list'!$A$2:$E$456,3,0)="HOSRP"),"URF required",IF(VLOOKUP($A10,'Species list'!$A$2:$E$456,4,0)="A, description notes required","Inc. ID notes",""))) | M10: =IF(LEN(A10)=0,"",$M$3) | N10: 10
F11: {=IF(LEN('My Details'!$B$2)=0,"see Note 3",IF(LEN(D11)=0,"",IF(LEN(E11)=0,"",(INDEX(Month!$A$2:$Z$15,MATCH(E11,Month!$A$2:$A$15,0),'My Details'!$B$2-2005)+D11))))} -> see Note 3 | K11: =IF($A11="","",IF(OR(VLOOKUP($A11,'Species list'!$A$2:$E$456,3,0)="BBRC",VLOOKUP($A11,'Species list'!$A$2:$E$456,3,0)="HOSRP"),"URF required",IF(VLOOKUP($A11,'Species list'!$A$2:$E$456,4,0)="A, description notes required","Inc. ID notes",""))) | M11: =IF(LEN(A11)=0,"",$M$3) | N11: 11
F12: {=IF(LEN('My Details'!$B$2)=0,"see Note 3",IF(LEN(D12)=0,"",IF(LEN(E12)=0,"",(INDEX(Month!$A$2:$Z$15,MATCH(E12,Month!$A$2:$A$15,0),'My Details'!$B$2-2005)+D12))))} -> see Note 3 | K12: =IF($A12="","",IF(OR(VLOOKUP($A12,'Species list'!$A$2:$E$456,3,0)="BBRC",VLOOKUP($A12,'Species list'!$A$2:$E$456,3,0)="HOSRP"),"URF required",IF(VLOOKUP($A12,'Species list'!$A$2:$E$456,4,0)="A, description notes required","Inc. ID notes",""))) | M12: =IF(LEN(A12)=0,"",$M$3) | N12: 12
F13: {=IF(LEN('My Details'!$B$2)=0,"see Note 3",IF(LEN(D13)=0,"",IF(LEN(E13)=0,"",(INDEX(Month!$A$2:$Z$15,MATCH(E13,Month!$A$2:$A$15,0),'My Details'!$B$2-2005)+D13))))} -> see Note 3 | K13: =IF($A13="","",IF(OR(VLOOKUP($A13,'Species list'!$A$2:$E$456,3,0)="BBRC",VLOOKUP($A13,'Species list'!$A$2:$E$456,3,0)="HOSRP"),"URF required",IF(VLOOKUP($A13,'Species list'!$A$2:$E$456,4,0)="A, description notes required","Inc. ID notes",""))) | M13: =IF(LEN(A13)=0,"",$M$3) | N13: 13
F14: {=IF(LEN('My Details'!$B$2)=0,"see Note 3",IF(LEN(D14)=0,"",IF(LEN(E14)=0,"",(INDEX(Month!$A$2:$Z$15,MATCH(E14,Month!$A$2:$A$15,0),'My Details'!$B$2-2005)+D14))))} -> see Note 3 | K14: =IF($A14="","",IF(OR(VLOOKUP($A14,'Species list'!$A$2:$E$456,3,0)="BBRC",VLOOKUP($A14,'Species list'!$A$2:$E$456,3,0)="HOSRP"),"URF required",IF(VLOOKUP($A14,'Species list'!$A$2:$E$456,4,0)="A, description notes required","Inc. ID notes",""))) | M14: =IF(LEN(A14)=0,"",$M$3) | N14: 14
F15: {=IF(LEN('My Details'!$B$2)=0,"see Note 3",IF(LEN(D15)=0,"",IF(LEN(E15)=0,"",(INDEX(Month!$A$2:$Z$15,MATCH(E15,Month!$A$2:$A$15,0),'My Details'!$B$2-2005)+D15))))} -> see Note 3 | K15: =IF($A15="","",IF(OR(VLOOKUP($A15,'Species list'!$A$2:$E$456,3,0)="BBRC",VLOOKUP($A15,'Species list'!$A$2:$E$456,3,0)="HOSRP"),"URF required",IF(VLOOKUP($A15,'Species list'!$A$2:$E$456,4,0)="A, description notes required","Inc. ID notes",""))) | M15: =IF(LEN(A15)=0,"",$M$3) | N15: 15
... F36: {=IF(LEN('My Details'!$B$2)=0,"see Note 3",IF(LEN(D36)=0,"",IF(LEN(E36)=0,"",(INDEX(Month!$A$2:$Z$15,MATCH(E36,Month!$A$2:$A$15,0),'My Details'!$B$2-2005)+D36))))} -> see Note 3 | K36: =IF($A36="","",IF(OR(VLOOKUP($A36,'Species list'!$A$2:$E$456,3,0)="BBRC",VLOOKUP($A36,'Species list'!$A$2:$E$456,3,0)="HOSRP"),"URF required",IF(VLOOKUP($A36,'Species list'!$A$2:$E$456,4,0)="A, description notes required","Inc. ID notes",""))) | M36: =IF(LEN(A36)=0,"",$M$3) | N36: 36
F37: {=IF(LEN('My Details'!$B$2)=0,"see Note 3",IF(LEN(D37)=0,"",IF(LEN(E37)=0,"",(INDEX(Month!$A$2:$Z$15,MATCH(E37,Month!$A$2:$A$15,0),'My Details'!$B$2-2005)+D37))))} -> see Note 3 | M37: =IF(LEN(A37)=0,"",$M$3) | N37: 37
F38: {=IF(LEN('My Details'!$B$2)=0,"see Note 3",IF(LEN(D38)=0,"",IF(LEN(E38)=0,"",(INDEX(Month!$A$2:$Z$15,MATCH(E38,Month!$A$2:$A$15,0),'My Details'!$B$2-2005)+D38))))} -> see Note 3 | K38: =IF($A38="","",IF(OR(VLOOKUP($A38,'Species list'!$A$2:$E$456,3,0)="BBRC",VLOOKUP($A38,'Species list'!$A$2:$E$456,3,0)="HOSRP"),"URF required",IF(VLOOKUP($A38,'Species list'!$A$2:$E$456,4,0)="A, description notes required","Inc. ID notes",""))) | M38: =IF(LEN(A38)=0,"",$M$3) | N38: 38
F39: {=IF(LEN('My Details'!$B$2)=0,"see Note 3",IF(LEN(D39)=0,"",IF(LEN(E39)=0,"",(INDEX(Month!$A$2:$Z$15,MATCH(E39,Month!$A$2:$A$15,0),'My Details'!$B$2-2005)+D39))))} -> see Note 3 | K39: =IF($A39="","",IF(OR(VLOOKUP($A39,'Species list'!$A$2:$E$456,3,0)="BBRC",VLOOKUP($A39,'Species list'!$A$2:$E$456,3,0)="HOSRP"),"URF required",IF(VLOOKUP($A39,'Species list'!$A$2:$E$456,4,0)="A, description notes required","Inc. ID notes",""))) | M39: =IF(LEN(A39)=0,"",$M$3) | N39: 39
F40: {=IF(LEN('My Details'!$B$2)=0,"see Note 3",IF(LEN(D40)=0,"",IF(LEN(E40)=0,"",(INDEX(Month!$A$2:$Z$15,MATCH(E40,Month!$A$2:$A$15,0),'My Details'!$B$2-2005)+D40))))} -> see Note 3 | K40: =IF($A40="","",IF(OR(VLOOKUP($A40,'Species list'!$A$2:$E$456,3,0)="BBRC",VLOOKUP($A40,'Species list'!$A$2:$E$456,3,0)="HOSRP"),"URF required",IF(VLOOKUP($A40,'Species list'!$A$2:$E$456,4,0)="A, description notes required","Inc. ID notes",""))) | M40: =IF(LEN(A40)=0,"",$M$3) | N40: 40
F41: {=IF(LEN('My Details'!$B$2)=0,"see Note 3",IF(LEN(D41)=0,"",IF(LEN(E41)=0,"",(INDEX(Month!$A$2:$Z$15,MATCH(E41,Month!$A$2:$A$15,0),'My Details'!$B$2-2005)+D41))))} -> see Note 3 | K41: =IF($A41="","",IF(OR(VLOOKUP($A41,'Species list'!$A$2:$E$456,3,0)="BBRC",VLOOKUP($A41,'Species list'!$A$2:$E$456,3,0)="HOSRP"),"URF required",IF(VLOOKUP($A41,'Species list'!$A$2:$E$456,4,0)="A, description notes required","Inc. ID notes",""))) | M41: =IF(LEN(A41)=0,"",$M$3) | N41: 41
F42: {=IF(LEN('My Details'!$B$2)=0,"see Note 3",IF(LEN(D42)=0,"",IF(LEN(E42)=0,"",(INDEX(Month!$A$2:$Z$15,MATCH(E42,Month!$A$2:$A$15,0),'My Details'!$B$2-2005)+D42))))} -> see Note 3 | K42: =IF($A42="","",IF(OR(VLOOKUP($A42,'Species list'!$A$2:$E$456,3,0)="BBRC",VLOOKUP($A42,'Species list'!$A$2:$E$456,3,0)="HOSRP"),"URF required",IF(VLOOKUP($A42,'Species list'!$A$2:$E$456,4,0)="A, description notes required","Inc. ID notes",""))) | M42: =IF(LEN(A42)=0,"",$M$3) | N42: 42
F43: {=IF(LEN('My Details'!$B$2)=0,"see Note 3",IF(LEN(D43)=0,"",IF(LEN(E43)=0,"",(INDEX(Month!$A$2:$Z$15,MATCH(E43,Month!$A$2:$A$15,0),'My Details'!$B$2-2005)+D43))))} -> see Note 3 | K43: =IF($A43="","",IF(OR(VLOOKUP($A43,'Species list'!$A$2:$E$456,3,0)="BBRC",VLOOKUP($A43,'Species list'!$A$2:$E$456,3,0)="HOSRP"),"URF required",IF(VLOOKUP($A43,'Species list'!$A$2:$E$456,4,0)="A, description notes required","Inc. ID notes",""))) | M43: =IF(LEN(A43)=0,"",$M$3) | N43: 43
F44: {=IF(LEN('My Details'!$B$2)=0,"see Note 3",IF(LEN(D44)=0,"",IF(LEN(E44)=0,"",(INDEX(Month!$A$2:$Z$15,MATCH(E44,Month!$A$2:$A$15,0),'My Details'!$B$2-2005)+D44))))} -> see Note 3 | K44: =IF($A44="","",IF(OR(VLOOKUP($A44,'Species list'!$A$2:$E$456,3,0)="BBRC",VLOOKUP($A44,'Species list'!$A$2:$E$456,3,0)="HOSRP"),"URF required",IF(VLOOKUP($A44,'Species list'!$A$2:$E$456,4,0)="A, description notes required","Inc. ID notes",""))) | M44: =IF(LEN(A44)=0,"",$M$3) | N44: 44
F45: {=IF(LEN('My Details'!$B$2)=0,"see Note 3",IF(LEN(D45)=0,"",IF(LEN(E45)=0,"",(INDEX(Month!$A$2:$Z$15,MATCH(E45,Month!$A$2:$A$15,0),'My Details'!$B$2-2005)+D45))))} -> see Note 3 | K45: =IF($A45="","",IF(OR(VLOOKUP($A45,'Species list'!$A$2:$E$456,3,0)="BBRC",VLOOKUP($A45,'Species list'!$A$2:$E$456,3,0)="HOSRP"),"URF required",IF(VLOOKUP($A45,'Species list'!$A$2:$E$456,4,0)="A, description notes required","Inc. ID notes",""))) | M45: =IF(LEN(A45)=0,"",$M$3) | N45: 45
F46: {=IF(LEN('My Details'!$B$2)=0,"see Note 3",IF(LEN(D46)=0,"",IF(LEN(E46)=0,"",(INDEX(Month!$A$2:$Z$15,MATCH(E46,Month!$A$2:$A$15,0),'My Details'!$B$2-2005)+D46))))} -> see Note 3 | K46: =IF($A46="","",IF(OR(VLOOKUP($A46,'Species list'!$A$2:$E$456,3,0)="BBRC",VLOOKUP($A46,'Species list'!$A$2:$E$456,3,0)="HOSRP"),"URF required",IF(VLOOKUP($A46,'Species list'!$A$2:$E$456,4,0)="A, description notes required","Inc. ID notes",""))) | M46: =IF(LEN(A46)=0,"",$M$3) | N46: 46
F47: {=IF(LEN('My Details'!$B$2)=0,"see Note 3",IF(LEN(D47)=0,"",IF(LEN(E47)=0,"",(INDEX(Month!$A$2:$Z$15,MATCH(E47,Month!$A$2:$A$15,0),'My Details'!$B$2-2005)+D47))))} -> see Note 3 | K47: =IF($A47="","",IF(OR(VLOOKUP($A47,'Species list'!$A$2:$E$456,3,0)="BBRC",VLOOKUP($A47,'Species list'!$A$2:$E$456,3,0)="HOSRP"),"URF required",IF(VLOOKUP($A47,'Species list'!$A$2:$E$456,4,0)="A, description notes required","Inc. ID notes",""))) | M47: =IF(LEN(A47)=0,"",$M$3) | N47: 47
F48: {=IF(LEN('My Details'!$B$2)=0,"see Note 3",IF(LEN(D48)=0,"",IF(LEN(E48)=0,"",(INDEX(Month!$A$2:$Z$15,MATCH(E48,Month!$A$2:$A$15,0),'My Details'!$B$2-2005)+D48))))} -> see Note 3 | K48: =IF($A48="","",IF(OR(VLOOKUP($A48,'Species list'!$A$2:$E$456,3,0)="BBRC",VLOOKUP($A48,'Species list'!$A$2:$E$456,3,0)="HOSRP"),"URF required",IF(VLOOKUP($A48,'Species list'!$A$2:$E$456,4,0)="A, description notes required","Inc. ID notes",""))) | M48: =IF(LEN(A48)=0,"",$M$3) | N48: 48
F49: {=IF(LEN('My Details'!$B$2)=0,"see Note 3",IF(LEN(D49)=0,"",IF(LEN(E49)=0,"",(INDEX(Month!$A$2:$Z$15,MATCH(E49,Month!$A$2:$A$15,0),'My Details'!$B$2-2005)+D49))))} -> see Note 3 | K49: =IF($A49="","",IF(OR(VLOOKUP($A49,'Species list'!$A$2:$E$456,3,0)="BBRC",VLOOKUP($A49,'Species list'!$A$2:$E$456,3,0)="HOSRP"),"URF required",IF(VLOOKUP($A49,'Species list'!$A$2:$E$456,4,0)="A, description notes required","Inc. ID notes",""))) | M49: =IF(LEN(A49)=0,"",$M$3) | N49: 49
... F979: {=IF(LEN('My Details'!$B$2)=0,"see Note 3",IF(LEN(D979)=0,"",IF(LEN(E979)=0,"",(INDEX(Month!$A$2:$Z$15,MATCH(E979,Month!$A$2:$A$15,0),'My Details'!$B$2-2005)+D979))))} -> see Note 3 | K979: =IF($A979="","",IF(OR(VLOOKUP($A979,'Species list'!$A$2:$E$456,3,0)="BBRC",VLOOKUP($A979,'Species list'!$A$2:$E$456,3,0)="HOSRP"),"URF required",IF(VLOOKUP($A979,'Species list'!$A$2:$E$456,4,0)="A, description notes required","Inc. ID notes",""))) | M979: =IF(LEN(A979)=0,"",$M$3) | N979: 979
N980: 980
F981: {=IF(LEN('My Details'!$B$2)=0,"see Note 3",IF(LEN(D981)=0,"",IF(LEN(E981)=0,"",(INDEX(Month!$A$2:$Z$15,MATCH(E981,Month!$A$2:$A$15,0),'My Details'!$B$2-2005)+D981))))} -> see Note 3 | M981: =IF(LEN(A981)=0,"",$M$3) | N981: 981
F982: {=IF(LEN('My Details'!$B$2)=0,"see Note 3",IF(LEN(D982)=0,"",IF(LEN(E982)=0,"",(INDEX(Month!$A$2:$Z$15,MATCH(E982,Month!$A$2:$A$15,0),'My Details'!$B$2-2005)+D982))))} -> see Note 3 | M982: =IF(LEN(A982)=0,"",$M$3) | N982: 982
F983: {=IF(LEN('My Details'!$B$2)=0,"see Note 3",IF(LEN(D983)=0,"",IF(LEN(E983)=0,"",(INDEX(Month!$A$2:$Z$15,MATCH(E983,Month!$A$2:$A$15,0),'My Details'!$B$2-2005)+D983))))} -> see Note 3 | M983: =IF(LEN(A983)=0,"",$M$3) | N983: 983
F984: {=IF(LEN('My Details'!$B$2)=0,"see Note 3",IF(LEN(D984)=0,"",IF(LEN(E984)=0,"",(INDEX(Month!$A$2:$Z$15,MATCH(E984,Month!$A$2:$A$15,0),'My Details'!$B$2-2005)+D984))))} -> see Note 3 | M984: =IF(LEN(A984)=0,"",$M$3) | N984: 984
F985: {=IF(LEN('My Details'!$B$2)=0,"see Note 3",IF(LEN(D985)=0,"",IF(LEN(E985)=0,"",(INDEX(Month!$A$2:$Z$15,MATCH(E985,Month!$A$2:$A$15,0),'My Details'!$B$2-2005)+D985))))} -> see Note 3 | M985: =IF(LEN(A985)=0,"",$M$3) | N985: 985
F986: {=IF(LEN('My Details'!$B$2)=0,"see Note 3",IF(LEN(D986)=0,"",IF(LEN(E986)=0,"",(INDEX(Month!$A$2:$Z$15,MATCH(E986,Month!$A$2:$A$15,0),'My Details'!$B$2-2005)+D986))))} -> see Note 3 | M986: =IF(LEN(A986)=0,"",$M$3) | N986: 986
F987: {=IF(LEN('My Details'!$B$2)=0,"see Note 3",IF(LEN(D987)=0,"",IF(LEN(E987)=0,"",(INDEX(Month!$A$2:$Z$15,MATCH(E987,Month!$A$2:$A$15,0),'My Details'!$B$2-2005)+D987))))} -> see Note 3 | M987: =IF(LEN(A987)=0,"",$M$3) | N987: 987
F988: {=IF(LEN('My Details'!$B$2)=0,"see Note 3",IF(LEN(D988)=0,"",IF(LEN(E988)=0,"",(INDEX(Month!$A$2:$Z$15,MATCH(E988,Month!$A$2:$A$15,0),'My Details'!$B$2-2005)+D988))))} -> see Note 3 | M988: =IF(LEN(A988)=0,"",$M$3) | N988: 988
F989: {=IF(LEN('My Details'!$B$2)=0,"see Note 3",IF(LEN(D989)=0,"",IF(LEN(E989)=0,"",(INDEX(Month!$A$2:$Z$15,MATCH(E989,Month!$A$2:$A$15,0),'My Details'!$B$2-2005)+D989))))} -> see Note 3 | M989: =IF(LEN(A989)=0,"",$M$3) | N989: 989
F990: {=IF(LEN('My Details'!$B$2)=0,"see Note 3",IF(LEN(D990)=0,"",IF(LEN(E990)=0,"",(INDEX(Month!$A$2:$Z$15,MATCH(E990,Month!$A$2:$A$15,0),'My Details'!$B$2-2005)+D990))))} -> see Note 3 | M990: =IF(LEN(A990)=0,"",$M$3) | N990: 990
F991: {=IF(LEN('My Details'!$B$2)=0,"see Note 3",IF(LEN(D991)=0,"",IF(LEN(E991)=0,"",(INDEX(Month!$A$2:$Z$15,MATCH(E991,Month!$A$2:$A$15,0),'My Details'!$B$2-2005)+D991))))} -> see Note 3 | M991: =IF(LEN(A991)=0,"",$M$3) | N991: 991
F992: {=IF(LEN('My Details'!$B$2)=0,"see Note 3",IF(LEN(D992)=0,"",IF(LEN(E992)=0,"",(INDEX(Month!$A$2:$Z$15,MATCH(E992,Month!$A$2:$A$15,0),'My Details'!$B$2-2005)+D992))))} -> see Note 3 | M992: =IF(LEN(A992)=0,"",$M$3) | N992: 992
... F1000: {=IF(LEN('My Details'!$B$2)=0,"see Note 3",IF(LEN(D1000)=0,"",IF(LEN(E1000)=0,"",(INDEX(Month!$A$2:$Z$15,MATCH(E1000,Month!$A$2:$A$15,0),'My Details'!$B$2-2005)+D1000))))} -> see Note 3 | M1000: =IF(LEN(A1000)=0,"",$M$3) | N1000: 1000

Sheet Explanatory Notes

Sheet Form Usage Issues

Sheet Species list
A1: Species | B1: Scientific Name | C1: URF | D1: RECORDING DETAILS | E1: BOU ORDER
A2: Alpine Accentor | B2: Prunella collaris | C2: BBRC | D2: requires BBRC form | E2: 1538
A3: Alpine Swift | B3: Tachymarptis melba | C3: HOSRP | D3: requires HOSRP form | E3: 1077
A4: American Bittern | B4: Botaurus lentiginosus | C4: BBRC | D4: requires BBRC form | E4: 1293
A5: American Cliff Swallow | B5: Petrochelidon pyrrhonota | C5: BBRC | D5: requires BBRC form | E5: 1411
A6: American Golden Plover | B6: Pluvialis dominica | C6: HOSRP | D6: requires HOSRP form | E6: 1127
A7: American Redstart | B7: Setophaga ruticilla | C7: BBRC | D7: requires BBRC form | E7: 1616
A8: American Wigeon | B8: Mareca americana | C8: HOSRP | D8: requires HOSRP form | E8: 1028
A9: Aquatic Warbler | B9: Acrocephalus paludicola | C9: BBRC | D9: requires BBRC form | E9: 1432
A10: Arctic Skua | B10: Stercorarius parasiticus | D10: A, inland description notes required | E10: 1243
A11: Arctic Tern | B11: Sterna paradisaea | D11: A - include age/plumage | E11: 1235
A12: Avocet | B12: Recurvirostra avosetta | D12: A | E12: 1121
A13: Baikal Teal | B13: Sibirionetta formosa | C13: BBRC | D13: requires BBRC form | E13: 1021
A14: Baillon's Crake | B14: Zapornia pusilla | C14: BBRC | D14: requires BBRC form | E14: 1108
A15: Baird's Sandpiper | B15: Calidris bairdii | C15: BBRC | D15: requires BBRC form | E15: 1161
A16: Balearic Shearwater | B16: Puffinus mauretanicus | C16: HOSRP | D16: requires HOSRP form | E16: 1278
A17: Barn Owl | B17: Tyto alba | D17: A | E17: 1326
A18: Barnacle Goose | B18: Branta leucopsis | D18: A | E18: 1004
A19: Barred Warbler | B19: Curruca nisoria | C19: HOSRP | D19: requires HOSRP form | E19: 1453
A20: Bar-tailed Godwit | B20: Limosa lapponica | D20: A | E20: 1144
A21: Bearded Tit | B21: Panurus biarmicus | D21: A | E21: 1393
A22: Bee-eater | B22: Merops apiaster | C22: HOSRP | D22: requires HOSRP form | E22: 1340
A23: Bewick's Swan | B23: Cygnus columbianus | C23: HOSRP | D23: requires HOSRP form | E23: 1015
A24: Bittern | B24: Botaurus stellaris | D24: A | E24: 1292
A25: Black Brant | B25: Branta bernicla nigricans | C25: HOSRP | D25: requires HOSRP form | E25: 1001.2
A26: Black Grouse | B26: Lyrurus tetrix | C26: HOSRP | D26: requires HOSRP form | E26: 1064
A27: Black Guillemot | B27: Cepphus grylle | C27: HOSRP | D27: requires HOSRP form | E27: 1250
A28: Black Kite | B28: Milvus migrans | C28: HOSRP | D28: requires HOSRP form | E28: 1321
A29: Black Redstart | B29: Phoenicurus ochruros | D29: A | E29: 1517
A30: Black Stork | B30: Ciconia nigra | C30: BBRC | D30: requires BBRC form | E30: 1280
A31: Black Swan | B31: Cygnus atratus | D31: Not on Hampshire List | E31: 11092
A32: Black Tern | B32: Chlidonias niger | D32: A | E32: 1239
A33: Blackbird | B33: Turdus merula | D33: CB, F (25), M | E33: 1492
A34: Blackcap | B34: Sylvia atricapilla | D34: CB, F (10), W | E34: 1451
A35: Black-headed Bunting | B35: Emberiza melanocephala | C35: BBRC | D35: requires BBRC form | E35: 1594
A36: Black-headed Gull | B36: Chroicocephalus ridibundus | D36: B, F (500), MM, S | E36: 1201
A37: Black-necked Grebe | B37: Podiceps nigricollis | D37: A | E37: 1117
A38: Black-tailed Godwit | B38: Limosa limosa | D38: F (50), F&L, S, R, inland A | E38: 1145
A39: Black-throated Diver | B39: Gavia arctica | D39: A, inland & summer description notes required | E39: 1257
A40: Black-winged Stilt | B40: Himantopus himantopus | C40: HOSRP | D40: requires HOSRP form | E40: 1120
A41: Blue Tit | B41: Cyanistes caeruleus | D41: CB, F (50), M | E41: 1390
A42: Blue-cheeked Bee-Eater | B42: Merops persicus | C42: BBRC | D42: requires BBRC form | E42: 1339
A43: Blue-headed Wagtail | B43: Motacilla flava flava | C43: HOSRP description notes on any race other than flavissima e.g. flava as here | D43: requires HOSRP form description notes on any race other than flavissima e.g. flava as here | E43: 1541.1
A44: Bluethroat | B44: Luscinia svecica | C44: HOSRP | D44: requires HOSRP form | E44: 1507
A45: Blue-winged Teal | B45: Spatula discors | C45: BBRC | D45: requires BBRC form | E45: 1023
A46: Blyth's Reed Warbler | B46: Acrocephalus dumetorum | C46: HOSRP | D46: requires HOSRP form | E46: 1435
A47: Bonaparte's Gull | B47: Chroicocephalus philadelphia | C47: BBRC | D47: requires BBRC form | E47: 1200
A48: Booted Warbler | B48: Iduna caligata | C48: BBRC | D48: requires BBRC form | E48: 1439
A49: Brambling | B49: Fringilla montifringilla | D49: A | E49: 1558
A50: Brent Goose | B50: Branta bernicla | D50: F (100), MM, F&L, M, R, inland A | E50: 1001
A51: Broad-billed Sandpiper | B51: Calidris falcinellus | C51: BBRC | D51: requires BBRC form | E51: 1151
A52: Brown Shrike | B52: Lanius cristatus | C52: BBRC | D52: requires BBRC form | E52: 1362
A53: Buff-breasted Sandpiper | B53: Calidris subruficollis | C53: HOSRP | D53: requires HOSRP form | E53: 1165
A54: Bullfinch | B54: Pyrrhula pyrrhula | D54: CB, F (5), M | E54: 1562
A55: Buzzard | B55: Buteo buteo | D55: B, F (10), M, R | E55: 1325
A56: Cackling Goose | B56: Branta hutchinsii | D56: Not on Hampshire List | E56: 1005
A57: Canada Goose | B57: Branta canadensis | D57: B, F (100), MM | E57: 1003
A58: Carrion Crow | B58: Corvus corone | D58: CB, F (50), M | E58: 1381
A59: Caspian Gull | B59: Larus cachinnans | C59: HOSRP description notes must include age/plumage | D59: requires HOSRP form description notes must include age/plumage | E59: 1217
A60: Caspian Tern | B60: Hydroprogne caspia | C60: BBRC | D60: requires BBRC form | E60: 1222
A61: Cattle Egret | B61: Bubulcus ibis | D61: A | E61: 1299
A62: Cetti's Warbler | B62: Cettia cetti | D62: A | E62: 1412
A63: Chaffinch | B63: Fringilla coelebs | D63: CB, F (25), M | E63: 1557
A64: Chiffchaff | B64: Phylloscopus collybita | D64: CB, F (10), W | E64: 1423
A65: Chinese Pond Heron | B65: Ardeola bacchus | C65: BBRC | D65: requires BBRC form | E65: 1298
A66: Chough | B66: Pyrrhocorax pyrrhocorax | C66: HOSRP | D66: requires HOSRP form | E66: 1378
A67: Cirl Bunting | B67: Emberiza cirlus | C67: HOSRP | D67: requires HOSRP form | E67: 1587
A68: Citrine Wagtail | B68: Motacilla citreola | C68: HOSRP | D68: requires HOSRP form | E68: 1543
A69: Coal Tit | B69: Periparus ater | D69: CB, F (20), M | E69: 1386
A70: Collared Dove | B70: Streptopelia decaocto | D70: CB, F (25), M | E70: 1096
A71: Collared Pratincole | B71: Glareola pratincola | C71: BBRC | D71: requires BBRC form | E71: 1193
A72: Common Guillemot | B72: Uria aalge | D72: A | E72: 1247
A73: Common Gull | B73: Larus canus | D73: B, F (50), MM, S | E73: 1209
A74: Common Redpoll | B74: Acanthis flammea | D74: A, description notes required | E74: 1568
A75: Common Rosefinch | B75: Carpodacus erythrinus | C75: HOSRP | D75: requires HOSRP form | E75: 1564
A76: Common Sandpiper | B76: Actitis hypoleucos | D76: A | E76: 1180
A77: Common Scoter | B77: Melanitta nigra | D77: A | E77: 1050
A78: Common Tern | B78: Sterna hirundo | D78: B, F (50), F&L, M, R, inland A | E78: 1234
A79: Continental Coal Tit | B79: Periparus ater ater | D79: A | E79: 1386.1
A80: Coot | B80: Fulica atra | D80: CB, F (20), MM | E80: 1103
A81: Cormorant | B81: Phalacrocorax carbo | D81: F (20), MM, R | E81: 1287
A82: Corn Bunting | B82: Emberiza calandra | D82: A | E82: 1581
A83: Corncrake | B83: Crex crex | C83: HOSRP | D83: requires HOSRP form | E83: 1099
A84: Cory's Shearwater | B84: Calonectris borealis | C84: HOSRP | D84: requires HOSRP form | E84: 1273
A85: Crane | B85: Grus grus | D85: A, description notes required | E85: 1111
A86: Cream-coloured Courser | B86: Cursorius cursor | C86: BBRC | D86: requires BBRC form | E86: 1192
A87: Crossbill | B87: Loxia curvirostra | D87: A | E87: 1573
A88: Cuckoo | B88: Cuculus canorus | D88: A | E88: 1089
A89: Curlew | B89: Numenius arquata | D89: B, F (50), MM, M, inland A | E89: 1143
A90: Curlew Sandpiper | B90: Calidris ferruginea | D90: A | E90: 1154
A91: Dalmatian Pelican | B91: Pelecanus crispus | C91: BBRC | D91: requires BBRC form | E91: 1306
A92: Dark-eyed Junco | B92: Junco hyemalis | C92: BBRC | D92: requires BBRC form | E92: 1599
A93: Dartford Warbler | B93: Curruca undata | D93: A except New Forest, CB | E93: 1466
A94: Desert Wheatear | B94: Oenanthe deserti | C94: BBRC | D94: requires BBRC form | E94: 1528
A95: Dipper | B95: Cinclus cinclus | C95: HOSRP | D95: requires HOSRP form | E95: 1533
A96: Dotterel | B96: Charadrius morinellus | C96: HOSRP | D96: requires HOSRP form | E96: 1137
A97: Dunlin | B97: Calidris alpina | D97: F (100), MM, M, S, inland A | E97: 1159
A98: Dunnock | B98: Prunella modularis | D98: CB, F (10) | E98: 1540
A99: Dusky Warbler | B99: Phylloscopus fuscatus | C99: HOSRP | D99: requires HOSRP form | E99: 1421
A100: Eastern Black-eared Wheatear | B100: Oenanthe melanoleuca | C100: BBRC | D100: requires BBRC form | E100: 1530
...

Sheet Breeding Evidence
A1: Bconf | B1: Explanation | C1: Status
A2: H | B2: H - observed in Habitat | C2: Bconf
A3: S | B3: S- Singing male | C3: Bconf
A4: P | B4: P- Pair | C4: Bconf
A5: T | B5: T- Territorial bird | C5: Bconf
A6: D | B6: D - Display | C6: Bconf
A7: B | B7: B- nest Building | C7: Bconf
A8: N | B8: N - Nest | C8: Bconf
A9: UN | B9: UN - used nest | C9: Bconf
A10: ON | B10: ON- Occupied nest | C10: Bconf
A11: NE | B11: NE - Nest with eggs | C11: Bconf
A12: A | B12: A- Agitation | C12: Bconf
... A22: X | B22: Not known | C22: Non-breeding

Sheet Month
A1: Year | C1: 2008 | D1: =C1+1 -> 2009 | E1: =D1+1 -> 2010 | F1: =E1+1 -> 2011 | G1: =F1+1 -> 2012 | H1: =G1+1 -> 2013 | I1: =H1+1 -> 2014 | J1: =I1+1 -> 2015 | K1: =J1+1 -> 2016 | ... S1: =R1+1 -> 2024
A2: Jan | B2: 31 | C2: 39447 | D2: =C$13+$B13 -> 39813 | E2: =D$13+$B13 -> 40178 | F2: =E$13+$B13 -> 40543 | G2: =F$13+$B13 -> 40908 | H2: =G$13+$B13 -> 41274 | I2: =H$13+$B13 -> 41639 | J2: =I$13+$B13 -> 42004 | K2: =J$13+$B13 -> 42369 | ... S2: =R$13+$B13 -> 45291
A3: Feb | B3: 28 | C3: =C2+$B2 -> 39478 | D3: =D2+$B2 -> 39844 | E3: =E2+$B2 -> 40209 | F3: =F2+$B2 -> 40574 | G3: =G2+$B2 -> 40939 | H3: =H2+$B2 -> 41305 | I3: =I2+$B2 -> 41670 | J3: =J2+$B2 -> 42035 | ... S3: =S2+$B2 -> 45322
A4: Mar | B4: 31 | C4: =C3+$B3+1 -> 39507 | D4: =D3+$B3 -> 39872 | E4: =E3+$B3 -> 40237 | F4: =F3+$B3 -> 40602 | G4: =G3+$B3+1 -> 40968 | H4: =H3+$B3 -> 41333 | I4: =I3+$B3 -> 41698 | J4: =J3+$B3 -> 42063 | K4: =K3+$B3+1 -> 42429 | L4: =L3+$B3 -> 42794 | M4: =M3+$B3 -> 43159 | N4: =N3+$B3 -> 43524 | O4: =O3+$B3+1 -> 43890 | P4: =P3+$B3 -> 44255 | Q4: =Q3+$B3 -> 44620 | R4: =R3+$B3 -> 44985 | S4: =S3+$B3+1 -> 45351
A5: Apr | B5: 30 | C5: =C4+$B4 -> 39538 | D5: =D4+$B4 -> 39903 | E5: =E4+$B4 -> 40268 | F5: =F4+$B4 -> 40633 | G5: =G4+$B4 -> 40999 | H5: =H4+$B4 -> 41364 | I5: =I4+$B4 -> 41729 | J5: =J4+$B4 -> 42094 | ... S5: =S4+$B4 -> 45382
A6: May | B6: 31 | C6: =C5+$B5 -> 39568 | D6: =D5+$B5 -> 39933 | E6: =E5+$B5 -> 40298 | F6: =F5+$B5 -> 40663 | G6: =G5+$B5 -> 41029 | H6: =H5+$B5 -> 41394 | I6: =I5+$B5 -> 41759 | J6: =J5+$B5 -> 42124 | ... S6: =S5+$B5 -> 45412
A7: Jun | B7: 30 | C7: =C6+$B6 -> 39599 | D7: =D6+$B6 -> 39964 | E7: =E6+$B6 -> 40329 | F7: =F6+$B6 -> 40694 | G7: =G6+$B6 -> 41060 | H7: =H6+$B6 -> 41425 | I7: =I6+$B6 -> 41790 | J7: =J6+$B6 -> 42155 | ... S7: =S6+$B6 -> 45443
A8: Jul | B8: 31 | C8: =C7+$B7 -> 39629 | D8: =D7+$B7 -> 39994 | E8: =E7+$B7 -> 40359 | F8: =F7+$B7 -> 40724 | G8: =G7+$B7 -> 41090 | H8: =H7+$B7 -> 41455 | I8: =I7+$B7 -> 41820 | J8: =J7+$B7 -> 42185 | ... S8: =S7+$B7 -> 45473
A9: Aug | B9: 31 | C9: =C8+$B8 -> 39660 | D9: =D8+$B8 -> 40025 | E9: =E8+$B8 -> 40390 | F9: =F8+$B8 -> 40755 | G9: =G8+$B8 -> 41121 | H9: =H8+$B8 -> 41486 | I9: =I8+$B8 -> 41851 | J9: =J8+$B8 -> 42216 | ... S9: =S8+$B8 -> 45504
A10: Sep | B10: 30 | C10: =C9+$B9 -> 39691 | D10: =D9+$B9 -> 40056 | E10: =E9+$B9 -> 40421 | F10: =F9+$B9 -> 40786 | G10: =G9+$B9 -> 41152 | H10: =H9+$B9 -> 41517 | I10: =I9+$B9 -> 41882 | J10: =J9+$B9 -> 42247 | ... S10: =S9+$B9 -> 45535
A11: Oct | B11: 31 | C11: =C10+$B10 -> 39721 | D11: =D10+$B10 -> 40086 | E11: =E10+$B10 -> 40451 | F11: =F10+$B10 -> 40816 | G11: =G10+$B10 -> 41182 | H11: =H10+$B10 -> 41547 | I11: =I10+$B10 -> 41912 | J11: =J10+$B10 -> 42277 | ... S11: =S10+$B10 -> 45565
A12: Nov | B12: 30 | C12: =C11+$B11 -> 39752 | D12: =D11+$B11 -> 40117 | E12: =E11+$B11 -> 40482 | F12: =F11+$B11 -> 40847 | G12: =G11+$B11 -> 41213 | H12: =H11+$B11 -> 41578 | I12: =I11+$B11 -> 41943 | J12: =J11+$B11 -> 42308 | ... S12: =S11+$B11 -> 45596
A13: Dec | B13: 31 | C13: =C12+$B12 -> 39782 | D13: =D12+$B12 -> 40147 | E13: =E12+$B12 -> 40512 | F13: =F12+$B12 -> 40877 | G13: =G12+$B12 -> 41243 | H13: =H12+$B12 -> 41608 | I13: =I12+$B12 -> 41973 | J13: =J12+$B12 -> 42338 | ... S13: =S12+$B12 -> 45626
A14: chk diy | B14: =SUM(B2:B13) -> 365 | C14: =$B13+C13-C2 -> 366 | D14: =$B13+D13-D2 -> 365 | E14: =$B13+E13-E2 -> 365 | F14: =$B13+F13-F2 -> 365 | G14: =$B13+G13-G2 -> 366 | H14: =$B13+H13-H2 -> 365 | I14: =$B13+I13-I2 -> 365 | J14: =$B13+J13-J2 -> 365 | ... S14: =$B13+S13-S2 -> 366

Sheet Compass 
A1: Headings
A2: N
A3: E
A4: S
A5: W
A6: NE
A7: SE
A8: SW
A9: NW
A10: NNE
A11: ENE
A12: ESE
... A17: NNW
